BEGIN:VCALENDAR
VERSION:2.0
PRODID:-//serenitykids.org//NONSGML kigkonsult.se iCalcreator 2.30.10//
CALSCALE:GREGORIAN
METHOD:PUBLISH
UID:5565f1e4-66c0-4a4c-8e00-41a90c53407b
X-WR-CALDESC:You're invited to Desserts with the Director! Join us on the s
 econd Tuesday of each month at 6pm at Serenity for an evening of desserts 
 and conversation with our director and fellow resource parents. It's a gre
 at opportunity to connect and share your thoughts in a relaxed setting. We
  look forward to seeing you there!\n\nRSVP with Aurora Ferree at a.ferree@
 serenitykids.org
X-WR-RELCALID:f2b41057faccb47b8a131362ab516d35
X-WR-TIMEZONE:America/Los_Angeles
BEGIN:VTIMEZONE
TZID:America/Los_Angeles
BEGIN:STANDARD
TZNAME:PST
DTSTART:20281105T020000
TZOFFSETFROM:-0700
TZOFFSETTO:-0800
RDATE:20291104T020000
RDATE:20301103T020000
END:STANDARD
BEGIN:DAYLIGHT
TZNAME:PDT
DTSTART:20290311T020000
TZOFFSETFROM:-0800
TZOFFSETTO:-0700
RDATE:20300310T020000
RDATE:20310309T020000
END:DAYLIGHT
END:VTIMEZONE
BEGIN:VEVENT
UID:7cf6e1a7-954f-490f-a519-7077c4053f69
DTSTAMP:20260426T025009Z
DESCRIPTION:You're invited to Desserts with the Director! Join us on the se
 cond Tuesday of each month at 6pm at Serenity for an evening of desserts a
 nd conversation with our director and fellow resource parents. It's a grea
 t opportunity to connect and share your thoughts in a relaxed setting. We 
 look forward to seeing you there!\n\nRSVP with Aurora Ferree at a.ferree@s
 erenitykids.org
DTSTART;TZID=America/Los_Angeles:20291016T180000
DTEND;TZID=America/Los_Angeles:20291016T190000
LOCATION:600 S Grand Ave\, Covina\, CA 91724-3638 US
SUMMARY:Desserts with the Director
END:VEVENT
END:VCALENDAR
