BEGIN:VCALENDAR
VERSION:2.0
PRODID:-//serenitykids.org//NONSGML kigkonsult.se iCalcreator 2.30.10//
CALSCALE:GREGORIAN
METHOD:PUBLISH
UID:fbcd624d-8599-4d0b-804f-fff1a8f6f9e3
X-WR-CALDESC:You're invited to join Java with Jami\, an opportunity to enjo
 y coffee and pastries with other resource parents and our director\, Jami 
 Sheridan. Come out on the second Friday of the month from 10-11am for a re
 laxed and engaging gathering. We look forward to seeing you there!\n\nRSVP
  with Aurora Ferree at a.ferree@serenitykids.org
X-WR-RELCALID:6ad171246649eaa64c8bce569a8e6eb8
X-WR-TIMEZONE:America/Los_Angeles
BEGIN:VTIMEZONE
TZID:America/Los_Angeles
BEGIN:STANDARD
TZNAME:PST
DTSTART:20281105T020000
TZOFFSETFROM:-0700
TZOFFSETTO:-0800
RDATE:20291104T020000
RDATE:20301103T020000
END:STANDARD
BEGIN:DAYLIGHT
TZNAME:PDT
DTSTART:20290311T020000
TZOFFSETFROM:-0800
TZOFFSETTO:-0700
RDATE:20300310T020000
END:DAYLIGHT
END:VTIMEZONE
BEGIN:VEVENT
UID:4606f229-f894-4c50-be4f-6638532e3152
DTSTAMP:20260425T214342Z
DESCRIPTION:You're invited to join Java with Jami\, an opportunity to enjoy
  coffee and pastries with other resource parents and our director\, Jami S
 heridan. Come out on the second Friday of the month from 10-11am for a rel
 axed and engaging gathering. We look forward to seeing you there!\n\nRSVP 
 with Aurora Ferree at a.ferree@serenitykids.org
DTSTART;TZID=America/Los_Angeles:20290608T100000
DTEND;TZID=America/Los_Angeles:20290608T110000
LOCATION:600 S Grand Ave\, Covina\, CA 91724-3638 US
SUMMARY:Java With Jami
END:VEVENT
END:VCALENDAR
