BEGIN:VCALENDAR
VERSION:2.0
PRODID:-//serenitykids.org//NONSGML kigkonsult.se iCalcreator 2.30.10//
CALSCALE:GREGORIAN
METHOD:PUBLISH
UID:2a31d39d-23d8-41cc-91d2-c02c0ef30b6e
X-WR-CALDESC:Join us for our in-person support group for resource parents o
 n the fourth Wednesday of each month from 10am to 12pm.\n\nThis is a great
  opportunity to connect\, share experiences\, and gain valuable support. 
 \n\nRSVP for childcare by emailing Aurora Ferree at a.ferree@serenitykids.
 org
X-WR-RELCALID:98ead170ea1cc50ebc980d44b051b99e
X-WR-TIMEZONE:America/Los_Angeles
BEGIN:VTIMEZONE
TZID:America/Los_Angeles
BEGIN:STANDARD
TZNAME:PST
DTSTART:20281105T020000
TZOFFSETFROM:-0700
TZOFFSETTO:-0800
RDATE:20291104T020000
END:STANDARD
BEGIN:DAYLIGHT
TZNAME:PDT
DTSTART:20290311T020000
TZOFFSETFROM:-0800
TZOFFSETTO:-0700
RDATE:20300310T020000
END:DAYLIGHT
END:VTIMEZONE
BEGIN:VEVENT
UID:fa0ffb06-9271-4475-8d36-d3a19566460a
DTSTAMP:20260425T174219Z
DESCRIPTION:Join us for our in-person support group for resource parents on
  the fourth Wednesday of each month from 10am to 12pm.\n\nThis is a great 
 opportunity to connect\, share experiences\, and gain valuable support. \n
 \nRSVP for childcare by emailing Aurora Ferree at a.ferree@serenitykids.or
 g
DTSTART;TZID=America/Los_Angeles:20290328T100000
DTEND;TZID=America/Los_Angeles:20290328T120000
LOCATION:600 S Grand Ave\, Covina\, CA 91724-3638 US
SUMMARY:In-Person Resource Parent Support Group
END:VEVENT
END:VCALENDAR
