BEGIN:VCALENDAR
VERSION:2.0
PRODID:-//serenitykids.org//NONSGML kigkonsult.se iCalcreator 2.30.10//
CALSCALE:GREGORIAN
METHOD:PUBLISH
UID:f2aa9d33-7a5c-485f-88c0-1f937513a60e
X-WR-CALDESC:You're invited to Desserts with the Director! Join us on the s
 econd Tuesday of each month at 6pm at Serenity for an evening of desserts 
 and conversation with our director and fellow resource parents. It's a gre
 at opportunity to connect and share your thoughts in a relaxed setting. We
  look forward to seeing you there!\n\nRSVP with Aurora Ferree at a.ferree@
 serenitykids.org
X-WR-RELCALID:a7fc8d9a122b41beef9e1963f428b1a9
X-WR-TIMEZONE:America/Los_Angeles
BEGIN:VTIMEZONE
TZID:America/Los_Angeles
BEGIN:STANDARD
TZNAME:PST
DTSTART:20281105T020000
TZOFFSETFROM:-0700
TZOFFSETTO:-0800
RDATE:20291104T020000
END:STANDARD
BEGIN:DAYLIGHT
TZNAME:PDT
DTSTART:20280312T020000
TZOFFSETFROM:-0800
TZOFFSETTO:-0700
RDATE:20290311T020000
RDATE:20300310T020000
END:DAYLIGHT
END:VTIMEZONE
BEGIN:VEVENT
UID:b00d7ee0-1f7c-4b49-9c5a-bfed2df62de0
DTSTAMP:20260425T161910Z
DESCRIPTION:You're invited to Desserts with the Director! Join us on the se
 cond Tuesday of each month at 6pm at Serenity for an evening of desserts a
 nd conversation with our director and fellow resource parents. It's a grea
 t opportunity to connect and share your thoughts in a relaxed setting. We 
 look forward to seeing you there!\n\nRSVP with Aurora Ferree at a.ferree@s
 erenitykids.org
DTSTART;TZID=America/Los_Angeles:20290220T180000
DTEND;TZID=America/Los_Angeles:20290220T190000
LOCATION:600 S Grand Ave\, Covina\, CA 91724-3638 US
SUMMARY:Desserts with the Director
END:VEVENT
END:VCALENDAR
