BEGIN:VCALENDAR
VERSION:2.0
PRODID:-//serenitykids.org//NONSGML kigkonsult.se iCalcreator 2.30.10//
CALSCALE:GREGORIAN
METHOD:PUBLISH
UID:78bf8d84-bcac-448d-bb62-f70f624538e0
X-WR-CALDESC:Join us for our in-person support group for resource parents o
 n the fourth Wednesday of each month from 10am to 12pm.\n\nThis is a great
  opportunity to connect\, share experiences\, and gain valuable support. 
 \n\nRSVP for childcare by emailing Aurora Ferree at a.ferree@serenitykids.
 org
X-WR-RELCALID:4932d335fc66fc948ddd18f10ed32ab6
X-WR-TIMEZONE:America/Los_Angeles
BEGIN:VTIMEZONE
TZID:America/Los_Angeles
BEGIN:STANDARD
TZNAME:PST
DTSTART:20281105T020000
TZOFFSETFROM:-0700
TZOFFSETTO:-0800
RDATE:20291104T020000
END:STANDARD
BEGIN:DAYLIGHT
TZNAME:PDT
DTSTART:20280312T020000
TZOFFSETFROM:-0800
TZOFFSETTO:-0700
RDATE:20290311T020000
RDATE:20300310T020000
END:DAYLIGHT
END:VTIMEZONE
BEGIN:VEVENT
UID:e2e04557-53a5-445e-9666-4913c336340e
DTSTAMP:20260425T145948Z
DESCRIPTION:Join us for our in-person support group for resource parents on
  the fourth Wednesday of each month from 10am to 12pm.\n\nThis is a great 
 opportunity to connect\, share experiences\, and gain valuable support. \n
 \nRSVP for childcare by emailing Aurora Ferree at a.ferree@serenitykids.or
 g
DTSTART;TZID=America/Los_Angeles:20290124T100000
DTEND;TZID=America/Los_Angeles:20290124T120000
LOCATION:600 S Grand Ave\, Covina\, CA 91724-3638 US
SUMMARY:In-Person Resource Parent Support Group
END:VEVENT
END:VCALENDAR
