BEGIN:VCALENDAR
VERSION:2.0
PRODID:-//serenitykids.org//NONSGML kigkonsult.se iCalcreator 2.30.10//
CALSCALE:GREGORIAN
METHOD:PUBLISH
UID:fdf681ae-016c-4894-a77c-2ddbee47d9f6
X-WR-CALDESC:Join us on the second Wednesday of each month at 6:30pm for so
 me virtual connection and support from fellow resource parents and our dir
 ector\, Jami Sheridan. \n\nRSVP by emailing Jami at jsheridan@davidandmarg
 aret.org to receive the link.
X-WR-RELCALID:f3019269dc99f7b3cee59689513e1898
X-WR-TIMEZONE:America/Los_Angeles
BEGIN:VTIMEZONE
TZID:America/Los_Angeles
BEGIN:STANDARD
TZNAME:PST
DTSTART:20271107T020000
TZOFFSETFROM:-0700
TZOFFSETTO:-0800
RDATE:20281105T020000
RDATE:20291104T020000
END:STANDARD
BEGIN:DAYLIGHT
TZNAME:PDT
DTSTART:20280312T020000
TZOFFSETFROM:-0800
TZOFFSETTO:-0700
RDATE:20290311T020000
END:DAYLIGHT
END:VTIMEZONE
BEGIN:VEVENT
UID:d41a5c11-7a6a-43c8-99cb-803262d54e51
DTSTAMP:20260423T082619Z
DESCRIPTION:Join us on the second Wednesday of each month at 6:30pm for som
 e virtual connection and support from fellow resource parents and our dire
 ctor\, Jami Sheridan. \n\nRSVP by emailing Jami at jsheridan@davidandmarga
 ret.org to receive the link.
DTSTART;TZID=America/Los_Angeles:20280809T183000
DTEND;TZID=America/Los_Angeles:20280809T200000
LOCATION:Event hosted on Zoom
SUMMARY:'Group Chat' Virtual Support Group
END:VEVENT
END:VCALENDAR
