BEGIN:VCALENDAR
VERSION:2.0
PRODID:-//serenitykids.org//NONSGML kigkonsult.se iCalcreator 2.30.10//
CALSCALE:GREGORIAN
METHOD:PUBLISH
UID:600e123d-073a-42bb-b064-6bb050f72020
X-WR-CALDESC:Join us on the second Wednesday of each month at 6:30pm for so
 me virtual connection and support from fellow resource parents and our dir
 ector\, Jami Sheridan. \n\nRSVP by emailing Jami at jsheridan@davidandmarg
 aret.org to receive the link.
X-WR-RELCALID:e988e5becfb8c3943fa9a3a31553ed08
X-WR-TIMEZONE:America/Los_Angeles
BEGIN:VTIMEZONE
TZID:America/Los_Angeles
BEGIN:STANDARD
TZNAME:PST
DTSTART:20271107T020000
TZOFFSETFROM:-0700
TZOFFSETTO:-0800
RDATE:20281105T020000
RDATE:20291104T020000
END:STANDARD
BEGIN:DAYLIGHT
TZNAME:PDT
DTSTART:20280312T020000
TZOFFSETFROM:-0800
TZOFFSETTO:-0700
RDATE:20290311T020000
END:DAYLIGHT
END:VTIMEZONE
BEGIN:VEVENT
UID:cc937dd6-7d30-457f-a69c-0ec43ca0f792
DTSTAMP:20260423T064422Z
DESCRIPTION:Join us on the second Wednesday of each month at 6:30pm for som
 e virtual connection and support from fellow resource parents and our dire
 ctor\, Jami Sheridan. \n\nRSVP by emailing Jami at jsheridan@davidandmarga
 ret.org to receive the link.
DTSTART;TZID=America/Los_Angeles:20280712T183000
DTEND;TZID=America/Los_Angeles:20280712T200000
LOCATION:Event hosted on Zoom
SUMMARY:'Group Chat' Virtual Support Group
END:VEVENT
END:VCALENDAR
