BEGIN:VCALENDAR
VERSION:2.0
PRODID:-//serenitykids.org//NONSGML kigkonsult.se iCalcreator 2.30.10//
CALSCALE:GREGORIAN
METHOD:PUBLISH
UID:2f33ddc4-c244-4bc6-91e7-4f5cc3da2985
X-WR-CALDESC:Join us for our in-person support group for resource parents o
 n the fourth Wednesday of each month from 10am to 12pm.\n\nThis is a great
  opportunity to connect\, share experiences\, and gain valuable support. 
 \n\nRSVP for childcare by emailing Aurora Ferree at a.ferree@serenitykids.
 org
X-WR-RELCALID:02629ee4512ab903e82fbcc159547255
X-WR-TIMEZONE:America/Los_Angeles
BEGIN:VTIMEZONE
TZID:America/Los_Angeles
BEGIN:STANDARD
TZNAME:PST
DTSTART:20271107T020000
TZOFFSETFROM:-0700
TZOFFSETTO:-0800
RDATE:20281105T020000
RDATE:20291104T020000
END:STANDARD
BEGIN:DAYLIGHT
TZNAME:PDT
DTSTART:20280312T020000
TZOFFSETFROM:-0800
TZOFFSETTO:-0700
RDATE:20290311T020000
END:DAYLIGHT
END:VTIMEZONE
BEGIN:VEVENT
UID:f73ac477-065b-4727-9382-83fff591e3ba
DTSTAMP:20260423T052716Z
DESCRIPTION:Join us for our in-person support group for resource parents on
  the fourth Wednesday of each month from 10am to 12pm.\n\nThis is a great 
 opportunity to connect\, share experiences\, and gain valuable support. \n
 \nRSVP for childcare by emailing Aurora Ferree at a.ferree@serenitykids.or
 g
DTSTART;TZID=America/Los_Angeles:20280628T100000
DTEND;TZID=America/Los_Angeles:20280628T120000
LOCATION:600 S Grand Ave\, Covina\, CA 91724-3638 US
SUMMARY:In-Person Resource Parent Support Group
END:VEVENT
END:VCALENDAR
