BEGIN:VCALENDAR
VERSION:2.0
PRODID:-//serenitykids.org//NONSGML kigkonsult.se iCalcreator 2.30.10//
CALSCALE:GREGORIAN
METHOD:PUBLISH
UID:9d63ea50-c0bb-4cc7-82bf-c5c67ef06a30
X-WR-CALDESC:Join us on the second Wednesday of each month at 6:30pm for so
 me virtual connection and support from fellow resource parents and our dir
 ector\, Jami Sheridan. \n\nRSVP by emailing Jami at jsheridan@davidandmarg
 aret.org to receive the link.
X-WR-RELCALID:fb75833684a38337cd459544298c8331
X-WR-TIMEZONE:America/Los_Angeles
BEGIN:VTIMEZONE
TZID:America/Los_Angeles
BEGIN:STANDARD
TZNAME:PST
DTSTART:20271107T020000
TZOFFSETFROM:-0700
TZOFFSETTO:-0800
RDATE:20281105T020000
RDATE:20291104T020000
END:STANDARD
BEGIN:DAYLIGHT
TZNAME:PDT
DTSTART:20280312T020000
TZOFFSETFROM:-0800
TZOFFSETTO:-0700
RDATE:20290311T020000
END:DAYLIGHT
END:VTIMEZONE
BEGIN:VEVENT
UID:8d731067-7995-40a9-959c-f267e879a36b
DTSTAMP:20260423T040650Z
DESCRIPTION:Join us on the second Wednesday of each month at 6:30pm for som
 e virtual connection and support from fellow resource parents and our dire
 ctor\, Jami Sheridan. \n\nRSVP by emailing Jami at jsheridan@davidandmarga
 ret.org to receive the link.
DTSTART;TZID=America/Los_Angeles:20280510T183000
DTEND;TZID=America/Los_Angeles:20280510T200000
LOCATION:Event hosted on Zoom
SUMMARY:'Group Chat' Virtual Support Group
END:VEVENT
END:VCALENDAR
