BEGIN:VCALENDAR
VERSION:2.0
PRODID:-//serenitykids.org//NONSGML kigkonsult.se iCalcreator 2.30.10//
CALSCALE:GREGORIAN
METHOD:PUBLISH
UID:141129fa-10a7-4148-91ee-4225073c4d8d
X-WR-CALDESC:Join us on the second Wednesday of each month at 6:30pm for so
 me virtual connection and support from fellow resource parents and our dir
 ector\, Jami Sheridan. \n\nRSVP by emailing Jami at jsheridan@davidandmarg
 aret.org to receive the link.
X-WR-RELCALID:ba4152283e82f73ce66b27e0d6f57423
X-WR-TIMEZONE:America/Los_Angeles
BEGIN:VTIMEZONE
TZID:America/Los_Angeles
BEGIN:STANDARD
TZNAME:PST
DTSTART:20271107T020000
TZOFFSETFROM:-0700
TZOFFSETTO:-0800
RDATE:20281105T020000
END:STANDARD
BEGIN:DAYLIGHT
TZNAME:PDT
DTSTART:20270314T020000
TZOFFSETFROM:-0800
TZOFFSETTO:-0700
RDATE:20280312T020000
RDATE:20290311T020000
END:DAYLIGHT
END:VTIMEZONE
BEGIN:VEVENT
UID:6f4ba761-51b8-4c7f-b2a6-d70261e50eb1
DTSTAMP:20260423T013944Z
DESCRIPTION:Join us on the second Wednesday of each month at 6:30pm for som
 e virtual connection and support from fellow resource parents and our dire
 ctor\, Jami Sheridan. \n\nRSVP by emailing Jami at jsheridan@davidandmarga
 ret.org to receive the link.
DTSTART;TZID=America/Los_Angeles:20280308T183000
DTEND;TZID=America/Los_Angeles:20280308T200000
LOCATION:Event hosted on Zoom
SUMMARY:'Group Chat' Virtual Support Group
END:VEVENT
END:VCALENDAR
