BEGIN:VCALENDAR
VERSION:2.0
PRODID:-//serenitykids.org//NONSGML kigkonsult.se iCalcreator 2.30.10//
CALSCALE:GREGORIAN
METHOD:PUBLISH
UID:3af3886c-41c8-42b2-82f4-603cf64cb132
X-WR-CALDESC:You're invited to join Java with Jami\, an opportunity to enjo
 y coffee and pastries with other resource parents and our director\, Jami 
 Sheridan. Come out on the second Friday of the month from 10-11am for a re
 laxed and engaging gathering. We look forward to seeing you there!\n\nRSVP
  with Aurora Ferree at a.ferree@serenitykids.org
X-WR-RELCALID:7fb33826b546ccb52af8332d7f358cd5
X-WR-TIMEZONE:America/Los_Angeles
BEGIN:VTIMEZONE
TZID:America/Los_Angeles
BEGIN:STANDARD
TZNAME:PST
DTSTART:20271107T020000
TZOFFSETFROM:-0700
TZOFFSETTO:-0800
RDATE:20281105T020000
END:STANDARD
BEGIN:DAYLIGHT
TZNAME:PDT
DTSTART:20270314T020000
TZOFFSETFROM:-0800
TZOFFSETTO:-0700
RDATE:20280312T020000
RDATE:20290311T020000
END:DAYLIGHT
END:VTIMEZONE
BEGIN:VEVENT
UID:8fbbaa18-c9c7-4821-a5d9-228973b2eb1a
DTSTAMP:20260422T205810Z
DESCRIPTION:You're invited to join Java with Jami\, an opportunity to enjoy
  coffee and pastries with other resource parents and our director\, Jami S
 heridan. Come out on the second Friday of the month from 10-11am for a rel
 axed and engaging gathering. We look forward to seeing you there!\n\nRSVP 
 with Aurora Ferree at a.ferree@serenitykids.org
DTSTART;TZID=America/Los_Angeles:20271210T100000
DTEND;TZID=America/Los_Angeles:20271210T110000
LOCATION:600 S Grand Ave\, Covina\, CA 91724-3638 US
SUMMARY:Java With Jami
END:VEVENT
END:VCALENDAR
