BEGIN:VCALENDAR
VERSION:2.0
PRODID:-//serenitykids.org//NONSGML kigkonsult.se iCalcreator 2.30.10//
CALSCALE:GREGORIAN
METHOD:PUBLISH
UID:e952f428-b829-43e2-a7cb-7909a1b5959b
X-WR-CALDESC:Join us for our in-person support group for resource parents o
 n the fourth Wednesday of each month from 10am to 12pm.\n\nThis is a great
  opportunity to connect\, share experiences\, and gain valuable support. 
 \n\nRSVP for childcare by emailing Aurora Ferree at a.ferree@serenitykids.
 org
X-WR-RELCALID:53e77cb023f2a825ed9de87af40ae03b
X-WR-TIMEZONE:America/Los_Angeles
BEGIN:VTIMEZONE
TZID:America/Los_Angeles
BEGIN:STANDARD
TZNAME:PST
DTSTART:20261101T020000
TZOFFSETFROM:-0700
TZOFFSETTO:-0800
RDATE:20271107T020000
RDATE:20281105T020000
END:STANDARD
BEGIN:DAYLIGHT
TZNAME:PDT
DTSTART:20270314T020000
TZOFFSETFROM:-0800
TZOFFSETTO:-0700
RDATE:20280312T020000
RDATE:20290311T020000
END:DAYLIGHT
END:VTIMEZONE
BEGIN:VEVENT
UID:d4af8218-7a35-45b9-8383-316325ab31c6
DTSTAMP:20260422T181240Z
DESCRIPTION:Join us for our in-person support group for resource parents on
  the fourth Wednesday of each month from 10am to 12pm.\n\nThis is a great 
 opportunity to connect\, share experiences\, and gain valuable support. \n
 \nRSVP for childcare by emailing Aurora Ferree at a.ferree@serenitykids.or
 g
DTSTART;TZID=America/Los_Angeles:20271027T100000
DTEND;TZID=America/Los_Angeles:20271027T120000
LOCATION:600 S Grand Ave\, Covina\, CA 91724-3638 US
SUMMARY:In-Person Resource Parent Support Group
END:VEVENT
END:VCALENDAR
