BEGIN:VCALENDAR
VERSION:2.0
PRODID:-//serenitykids.org//NONSGML kigkonsult.se iCalcreator 2.30.10//
CALSCALE:GREGORIAN
METHOD:PUBLISH
UID:e50e1a1b-35db-45b8-bc2a-19a2c87a6b1e
X-WR-CALDESC:Join us on the second Wednesday of each month at 6:30pm for so
 me virtual connection and support from fellow resource parents and our dir
 ector\, Jami Sheridan. \n\nRSVP by emailing Jami at jsheridan@davidandmarg
 aret.org to receive the link.
X-WR-RELCALID:8ee6b664ade7f7369faafdbe4b031b14
X-WR-TIMEZONE:America/Los_Angeles
BEGIN:VTIMEZONE
TZID:America/Los_Angeles
BEGIN:STANDARD
TZNAME:PST
DTSTART:20261101T020000
TZOFFSETFROM:-0700
TZOFFSETTO:-0800
RDATE:20271107T020000
RDATE:20281105T020000
END:STANDARD
BEGIN:DAYLIGHT
TZNAME:PDT
DTSTART:20270314T020000
TZOFFSETFROM:-0800
TZOFFSETTO:-0700
RDATE:20280312T020000
END:DAYLIGHT
END:VTIMEZONE
BEGIN:VEVENT
UID:64e71652-0c46-4801-b646-d2c237040187
DTSTAMP:20260422T135108Z
DESCRIPTION:Join us on the second Wednesday of each month at 6:30pm for som
 e virtual connection and support from fellow resource parents and our dire
 ctor\, Jami Sheridan. \n\nRSVP by emailing Jami at jsheridan@davidandmarga
 ret.org to receive the link.
DTSTART;TZID=America/Los_Angeles:20270714T183000
DTEND;TZID=America/Los_Angeles:20270714T200000
LOCATION:Event hosted on Zoom
SUMMARY:'Group Chat' Virtual Support Group
END:VEVENT
END:VCALENDAR
