BEGIN:VCALENDAR
VERSION:2.0
PRODID:-//serenitykids.org//NONSGML kigkonsult.se iCalcreator 2.30.10//
CALSCALE:GREGORIAN
METHOD:PUBLISH
UID:afba832c-ebe7-4797-b37e-c3ac1930b2bf
X-WR-CALDESC:You're invited to Desserts with the Director! Join us on the s
 econd Tuesday of each month at 6pm at Serenity for an evening of desserts 
 and conversation with our director and fellow resource parents. It's a gre
 at opportunity to connect and share your thoughts in a relaxed setting. We
  look forward to seeing you there!\n\nRSVP with Aurora Ferree at a.ferree@
 serenitykids.org
X-WR-RELCALID:be387c3945105d380439876dea011158
X-WR-TIMEZONE:America/Los_Angeles
BEGIN:VTIMEZONE
TZID:America/Los_Angeles
BEGIN:STANDARD
TZNAME:PST
DTSTART:20261101T020000
TZOFFSETFROM:-0700
TZOFFSETTO:-0800
RDATE:20271107T020000
RDATE:20281105T020000
END:STANDARD
BEGIN:DAYLIGHT
TZNAME:PDT
DTSTART:20270314T020000
TZOFFSETFROM:-0800
TZOFFSETTO:-0700
RDATE:20280312T020000
END:DAYLIGHT
END:VTIMEZONE
BEGIN:VEVENT
UID:c535358f-6fcb-49c0-8d46-5f0a818e312f
DTSTAMP:20260422T103346Z
DESCRIPTION:You're invited to Desserts with the Director! Join us on the se
 cond Tuesday of each month at 6pm at Serenity for an evening of desserts a
 nd conversation with our director and fellow resource parents. It's a grea
 t opportunity to connect and share your thoughts in a relaxed setting. We 
 look forward to seeing you there!\n\nRSVP with Aurora Ferree at a.ferree@s
 erenitykids.org
DTSTART;TZID=America/Los_Angeles:20270518T180000
DTEND;TZID=America/Los_Angeles:20270518T190000
LOCATION:600 S Grand Ave\, Covina\, CA 91724-3638 US
SUMMARY:Desserts with the Director
END:VEVENT
END:VCALENDAR
