BEGIN:VCALENDAR
VERSION:2.0
PRODID:-//serenitykids.org//NONSGML kigkonsult.se iCalcreator 2.30.10//
CALSCALE:GREGORIAN
METHOD:PUBLISH
UID:f182576e-9e70-4e0e-b97b-b37d7ed3a50b
X-WR-CALDESC:You're invited to join Java with Jami\, an opportunity to enjo
 y coffee and pastries with other resource parents and our director\, Jami 
 Sheridan. Come out on the second Friday of the month from 10-11am for a re
 laxed and engaging gathering. We look forward to seeing you there!\n\nRSVP
  with Aurora Ferree at a.ferree@serenitykids.org
X-WR-RELCALID:e68790b9a9f844851165768dd652c146
X-WR-TIMEZONE:America/Los_Angeles
BEGIN:VTIMEZONE
TZID:America/Los_Angeles
BEGIN:STANDARD
TZNAME:PST
DTSTART:20261101T020000
TZOFFSETFROM:-0700
TZOFFSETTO:-0800
RDATE:20271107T020000
END:STANDARD
BEGIN:DAYLIGHT
TZNAME:PDT
DTSTART:20270314T020000
TZOFFSETFROM:-0800
TZOFFSETTO:-0700
RDATE:20280312T020000
END:DAYLIGHT
END:VTIMEZONE
BEGIN:VEVENT
UID:d80b01bc-28ae-41d0-9b9d-72f6153bdce8
DTSTAMP:20260424T084014Z
DESCRIPTION:You're invited to join Java with Jami\, an opportunity to enjoy
  coffee and pastries with other resource parents and our director\, Jami S
 heridan. Come out on the second Friday of the month from 10-11am for a rel
 axed and engaging gathering. We look forward to seeing you there!\n\nRSVP 
 with Aurora Ferree at a.ferree@serenitykids.org
DTSTART;TZID=America/Los_Angeles:20270409T100000
DTEND;TZID=America/Los_Angeles:20270409T110000
LOCATION:600 S Grand Ave\, Covina\, CA 91724-3638 US
SUMMARY:Java With Jami
END:VEVENT
END:VCALENDAR
