BEGIN:VCALENDAR
VERSION:2.0
PRODID:-//serenitykids.org//NONSGML kigkonsult.se iCalcreator 2.30.10//
CALSCALE:GREGORIAN
METHOD:PUBLISH
UID:1c4cdd81-0f4f-4371-9c79-7cf58b7340f9
X-WR-CALDESC:Join us for our in-person support group for resource parents o
 n the fourth Wednesday of each month from 10am to 12pm.\n\nThis is a great
  opportunity to connect\, share experiences\, and gain valuable support. 
 \n\nRSVP for childcare by emailing Aurora Ferree at a.ferree@serenitykids.
 org
X-WR-RELCALID:51e54e1074df7194815cf01b68006b66
X-WR-TIMEZONE:America/Los_Angeles
BEGIN:VTIMEZONE
TZID:America/Los_Angeles
BEGIN:STANDARD
TZNAME:PST
DTSTART:20251102T020000
TZOFFSETFROM:-0700
TZOFFSETTO:-0800
RDATE:20261101T020000
RDATE:20271107T020000
END:STANDARD
BEGIN:DAYLIGHT
TZNAME:PDT
DTSTART:20260308T020000
TZOFFSETFROM:-0800
TZOFFSETTO:-0700
RDATE:20270314T020000
RDATE:20280312T020000
END:DAYLIGHT
END:VTIMEZONE
BEGIN:VEVENT
UID:65d14f29-72f3-45ab-a695-afee2cc4f8f8
DTSTAMP:20260422T085437Z
DESCRIPTION:Join us for our in-person support group for resource parents on
  the fourth Wednesday of each month from 10am to 12pm.\n\nThis is a great 
 opportunity to connect\, share experiences\, and gain valuable support. \n
 \nRSVP for childcare by emailing Aurora Ferree at a.ferree@serenitykids.or
 g
DTSTART;TZID=America/Los_Angeles:20260923T100000
DTEND;TZID=America/Los_Angeles:20260923T120000
LOCATION:600 S Grand Ave\, Covina\, CA 91724-3638 US
SUMMARY:In-Person Resource Parent Support Group
END:VEVENT
END:VCALENDAR
